BEGIN:VCALENDAR
VERSION:2.0
PRODID:icalendar-ruby
CALSCALE:GREGORIAN
METHOD:PUBLISH
BEGIN:VEVENT
DTSTAMP:20260419T180209Z
UID:5-397058@wagramcog.com
DTSTART:20261018T150000Z
DTEND:20261018T160000Z
CLASS:PUBLIC
CREATED:20260419T130723
DESCRIPTION:Sunday Worship
LAST-MODIFIED:20260419T130723
LOCATION:
SUMMARY:Sunday Worship
URL;VALUE=URI:https://wagramcog.com/events/sunday-worship/2026-10-18
END:VEVENT
END:VCALENDAR
