BEGIN:VCALENDAR
VERSION:2.0
PRODID:icalendar-ruby
CALSCALE:GREGORIAN
METHOD:PUBLISH
BEGIN:VEVENT
DTSTAMP:20260419T215037Z
UID:5-397321@wagramcog.com
DTSTART:20261101T160000Z
DTEND:20261101T170000Z
CLASS:PUBLIC
CREATED:20260419T164934
DESCRIPTION:Sunday Worship
LAST-MODIFIED:20260419T164934
LOCATION:
SUMMARY:Sunday Worship
URL;VALUE=URI:https://wagramcog.com/events/sunday-worship/2026-11-01
END:VEVENT
END:VCALENDAR
